BEGIN:VCALENDAR
VERSION:2.0
PRODID:-//Volunteer - ECPv6.2.1//NONSGML v1.0//EN
CALSCALE:GREGORIAN
METHOD:PUBLISH
X-WR-CALNAME:Volunteer
X-ORIGINAL-URL:http://wp1.themexlab.com/wp/volunteer
X-WR-CALDESC:Events for Volunteer
REFRESH-INTERVAL;VALUE=DURATION:PT1H
X-Robots-Tag:noindex
X-PUBLISHED-TTL:PT1H
BEGIN:VTIMEZONE
TZID:UTC
BEGIN:STANDARD
TZOFFSETFROM:+0000
TZOFFSETTO:+0000
TZNAME:UTC
DTSTART:20190101T000000
END:STANDARD
END:VTIMEZONE
BEGIN:VEVENT
DTSTART;TZID=UTC:20240516T043000
DTEND;TZID=UTC:20240516T043000
DTSTAMP:20260421T215114
CREATED:20151020T125115Z
LAST-MODIFIED:20160505T085122Z
UID:392-1715833800-1715833800@wp1.themexlab.com
SUMMARY:Kentucky Tennessee Clay Co
DESCRIPTION:Etiam luctus accumsan dictum. Morbi mollis nunc odio\, a finibus mi dignissim at. Maecenas aliquam urna nec urna sollicitudin hendrerit. Nam non pretium lacus. Vivamus sit amet dui fermentum\, consectetur lorem et\, euismod nisl. Donec ex ipsum\, posuere id laoreet sed\, efficitur a justo. Donec eget augue lorem. Sed sodales consequat ante\, ullamcorper egestas nisl finibus vel. \nIn nibh diam\, feugiat ac augue ac\, volutpat condimentum ex. Proin tristique nulla et nisl fringilla vulputate. Pellentesque tempor elit at erat posuere\, a ultricies purus vestibulum. Nulla at ultricies augue\, non imperdiet odio. Morbi auctor dolor nec finibus ultrices. Maecenas lacus nunc\, accumsan ac magna vel\, iaculis congue dolor. Proin consectetur ex vitae augue convallis blandit. Maecenas elementum posuere scelerisque. Sed ac odio augue. Aliquam ut leo sapien. Pellentesque facilisis ac lorem quis eleifend. Donec varius\, ex et scelerisque sodales\, velit arcu blandit nibh\, eget commodo metus sapien et nunc. Integer efficitur quam orci\, nec condimentum libero venenatis nec. \nDonec volutpat ac nulla at luctus. Sed tellus ex\, vestibulum at convallis sit amet\, viverra ut ipsum. Nulla porta mattis dui eget aliquet. Duis sed ex ultrices\, tincidunt dui eu\, lobortis dolor. In mattis fermentum pulvinar. Sed maximus neque eget vulputate tempor. Nulla sagittis semper est nec dapibus. Sed fringilla tempus viverra. Pellentesque vestibulum tincidunt eros. Suspendisse laoreet non tellus vel suscipit. Nulla consequat arcu id eros elementum mattis. Phasellus aliquet libero in scelerisque condimentum. Donec dapibus neque id lacus malesuada blandit. Suspendisse potenti. Class aptent taciti sociosqu ad litora torquent per conubia nostra\, per inceptos himenaeos. Sed non ornare ex\, a fermentum orci.
URL:http://wp1.themexlab.com/wp/volunteer/event/kentucky-tennessee-clay-co/
LOCATION:Hyde Park\, Sydney\, Australia
CATEGORIES:Convention,Meetup
ATTACH;FMTTYPE=image/jpeg:http://wp1.themexlab.com/wp/volunteer/wp-content/uploads/2015/10/event2.jpg
END:VEVENT
BEGIN:VEVENT
DTSTART;TZID=UTC:20220423T220000
DTEND;TZID=UTC:20220423T220000
DTSTAMP:20260421T215114
CREATED:20151020T125208Z
LAST-MODIFIED:20160505T085109Z
UID:461-1650751200-1650751200@wp1.themexlab.com
SUMMARY:Insty Prints
DESCRIPTION:Etiam luctus accumsan dictum. Morbi mollis nunc odio\, a finibus mi dignissim at. Maecenas aliquam urna nec urna sollicitudin hendrerit. Nam non pretium lacus. Vivamus sit amet dui fermentum\, consectetur lorem et\, euismod nisl. Donec ex ipsum\, posuere id laoreet sed\, efficitur a justo. Donec eget augue lorem. Sed sodales consequat ante\, ullamcorper egestas nisl finibus vel. \nIn nibh diam\, feugiat ac augue ac\, volutpat condimentum ex. Proin tristique nulla et nisl fringilla vulputate. Pellentesque tempor elit at erat posuere\, a ultricies purus vestibulum. Nulla at ultricies augue\, non imperdiet odio. Morbi auctor dolor nec finibus ultrices. Maecenas lacus nunc\, accumsan ac magna vel\, iaculis congue dolor. Proin consectetur ex vitae augue convallis blandit. Maecenas elementum posuere scelerisque. Sed ac odio augue. Aliquam ut leo sapien. Pellentesque facilisis ac lorem quis eleifend. Donec varius\, ex et scelerisque sodales\, velit arcu blandit nibh\, eget commodo metus sapien et nunc. Integer efficitur quam orci\, nec condimentum libero venenatis nec. \nDonec volutpat ac nulla at luctus. Sed tellus ex\, vestibulum at convallis sit amet\, viverra ut ipsum. Nulla porta mattis dui eget aliquet. Duis sed ex ultrices\, tincidunt dui eu\, lobortis dolor. In mattis fermentum pulvinar. Sed maximus neque eget vulputate tempor. Nulla sagittis semper est nec dapibus. Sed fringilla tempus viverra. Pellentesque vestibulum tincidunt eros. Suspendisse laoreet non tellus vel suscipit. Nulla consequat arcu id eros elementum mattis. Phasellus aliquet libero in scelerisque condimentum. Donec dapibus neque id lacus malesuada blandit. Suspendisse potenti. Class aptent taciti sociosqu ad litora torquent per conubia nostra\, per inceptos himenaeos. Sed non ornare ex\, a fermentum orci.
URL:http://wp1.themexlab.com/wp/volunteer/event/insty-prints-2/
LOCATION:Jackson’s & Co\, Australia
CATEGORIES:Barbecue,Meetup
ATTACH;FMTTYPE=image/jpeg:http://wp1.themexlab.com/wp/volunteer/wp-content/uploads/2015/10/event8.jpg
END:VEVENT
BEGIN:VEVENT
DTSTART;TZID=UTC:20200520T080000
DTEND;TZID=UTC:20200520T080000
DTSTAMP:20260421T215114
CREATED:20151020T125119Z
LAST-MODIFIED:20160505T085046Z
UID:405-1589961600-1589961600@wp1.themexlab.com
SUMMARY:20 20 Printing Inc
DESCRIPTION:Etiam luctus accumsan dictum. Morbi mollis nunc odio\, a finibus mi dignissim at. Maecenas aliquam urna nec urna sollicitudin hendrerit. Nam non pretium lacus. Vivamus sit amet dui fermentum\, consectetur lorem et\, euismod nisl. Donec ex ipsum\, posuere id laoreet sed\, efficitur a justo. Donec eget augue lorem. Sed sodales consequat ante\, ullamcorper egestas nisl finibus vel. \nIn nibh diam\, feugiat ac augue ac\, volutpat condimentum ex. Proin tristique nulla et nisl fringilla vulputate. Pellentesque tempor elit at erat posuere\, a ultricies purus vestibulum. Nulla at ultricies augue\, non imperdiet odio. Morbi auctor dolor nec finibus ultrices. Maecenas lacus nunc\, accumsan ac magna vel\, iaculis congue dolor. Proin consectetur ex vitae augue convallis blandit. Maecenas elementum posuere scelerisque. Sed ac odio augue. Aliquam ut leo sapien. Pellentesque facilisis ac lorem quis eleifend. Donec varius\, ex et scelerisque sodales\, velit arcu blandit nibh\, eget commodo metus sapien et nunc. Integer efficitur quam orci\, nec condimentum libero venenatis nec. \nDonec volutpat ac nulla at luctus. Sed tellus ex\, vestibulum at convallis sit amet\, viverra ut ipsum. Nulla porta mattis dui eget aliquet. Duis sed ex ultrices\, tincidunt dui eu\, lobortis dolor. In mattis fermentum pulvinar. Sed maximus neque eget vulputate tempor. Nulla sagittis semper est nec dapibus. Sed fringilla tempus viverra. Pellentesque vestibulum tincidunt eros. Suspendisse laoreet non tellus vel suscipit. Nulla consequat arcu id eros elementum mattis. Phasellus aliquet libero in scelerisque condimentum. Donec dapibus neque id lacus malesuada blandit. Suspendisse potenti. Class aptent taciti sociosqu ad litora torquent per conubia nostra\, per inceptos himenaeos. Sed non ornare ex\, a fermentum orci.
URL:http://wp1.themexlab.com/wp/volunteer/event/20-20-printing-inc-3/
LOCATION:Gold Coast
ATTACH;FMTTYPE=image/jpeg:http://wp1.themexlab.com/wp/volunteer/wp-content/uploads/2015/10/event13.jpg
END:VEVENT
BEGIN:VEVENT
DTSTART;TZID=UTC:20190728T150000
DTEND;TZID=UTC:20190728T150000
DTSTAMP:20260421T215114
CREATED:20151020T125104Z
LAST-MODIFIED:20180727T104324Z
UID:356-1564326000-1564326000@wp1.themexlab.com
SUMMARY:Klimpys
DESCRIPTION:Etiam luctus accumsan dictum. Morbi mollis nunc odio\, a finibus mi dignissim at. Maecenas aliquam urna nec urna sollicitudin hendrerit. Nam non pretium lacus. Vivamus sit amet dui fermentum\, consectetur lorem et\, euismod nisl. Donec ex ipsum\, posuere id laoreet sed\, efficitur a justo. Donec eget augue lorem. Sed sodales consequat ante\, ullamcorper egestas nisl finibus vel. \nIn nibh diam\, feugiat ac augue ac\, volutpat condimentum ex. Proin tristique nulla et nisl fringilla vulputate. Pellentesque tempor elit at erat posuere\, a ultricies purus vestibulum. Nulla at ultricies augue\, non imperdiet odio. Morbi auctor dolor nec finibus ultrices. Maecenas lacus nunc\, accumsan ac magna vel\, iaculis congue dolor. Proin consectetur ex vitae augue convallis blandit. Maecenas elementum posuere scelerisque. Sed ac odio augue. Aliquam ut leo sapien. Pellentesque facilisis ac lorem quis eleifend. Donec varius\, ex et scelerisque sodales\, velit arcu blandit nibh\, eget commodo metus sapien et nunc. Integer efficitur quam orci\, nec condimentum libero venenatis nec. \nDonec volutpat ac nulla at luctus. Sed tellus ex\, vestibulum at convallis sit amet\, viverra ut ipsum. Nulla porta mattis dui eget aliquet. Duis sed ex ultrices\, tincidunt dui eu\, lobortis dolor. In mattis fermentum pulvinar. Sed maximus neque eget vulputate tempor. Nulla sagittis semper est nec dapibus. Sed fringilla tempus viverra. Pellentesque vestibulum tincidunt eros. Suspendisse laoreet non tellus vel suscipit. Nulla consequat arcu id eros elementum mattis. Phasellus aliquet libero in scelerisque condimentum. Donec dapibus neque id lacus malesuada blandit. Suspendisse potenti. Class aptent taciti sociosqu ad litora torquent per conubia nostra\, per inceptos himenaeos. Sed non ornare ex\, a fermentum orci.
URL:http://wp1.themexlab.com/wp/volunteer/event/klimpys/
LOCATION:Melbourne Zoo\, Australia
CATEGORIES:Concert,Meetup
ATTACH;FMTTYPE=image/jpeg:http://wp1.themexlab.com/wp/volunteer/wp-content/uploads/2015/10/event15.jpg
END:VEVENT
BEGIN:VEVENT
DTSTART;TZID=UTC:20190616T030000
DTEND;TZID=UTC:20190616T030000
DTSTAMP:20260421T215114
CREATED:20151020T125204Z
LAST-MODIFIED:20161128T083532Z
UID:456-1560654000-1560654000@wp1.themexlab.com
SUMMARY:Plantation Restaurant
DESCRIPTION:Etiam luctus accumsan dictum. Morbi mollis nunc odio\, a finibus mi dignissim at. Maecenas aliquam urna nec urna sollicitudin hendrerit. Nam non pretium lacus. Vivamus sit amet dui fermentum\, consectetur lorem et\, euismod nisl. Donec ex ipsum\, posuere id laoreet sed\, efficitur a justo. Donec eget augue lorem. Sed sodales consequat ante\, ullamcorper egestas nisl finibus vel. \nIn nibh diam\, feugiat ac augue ac\, volutpat condimentum ex. Proin tristique nulla et nisl fringilla vulputate. Pellentesque tempor elit at erat posuere\, a ultricies purus vestibulum. Nulla at ultricies augue\, non imperdiet odio. Morbi auctor dolor nec finibus ultrices. Maecenas lacus nunc\, accumsan ac magna vel\, iaculis congue dolor. Proin consectetur ex vitae augue convallis blandit. Maecenas elementum posuere scelerisque. Sed ac odio augue. Aliquam ut leo sapien. Pellentesque facilisis ac lorem quis eleifend. Donec varius\, ex et scelerisque sodales\, velit arcu blandit nibh\, eget commodo metus sapien et nunc. Integer efficitur quam orci\, nec condimentum libero venenatis nec. \nDonec volutpat ac nulla at luctus. Sed tellus ex\, vestibulum at convallis sit amet\, viverra ut ipsum. Nulla porta mattis dui eget aliquet. Duis sed ex ultrices\, tincidunt dui eu\, lobortis dolor. In mattis fermentum pulvinar. Sed maximus neque eget vulputate tempor. Nulla sagittis semper est nec dapibus. Sed fringilla tempus viverra. Pellentesque vestibulum tincidunt eros. Suspendisse laoreet non tellus vel suscipit. Nulla consequat arcu id eros elementum mattis. Phasellus aliquet libero in scelerisque condimentum. Donec dapibus neque id lacus malesuada blandit. Suspendisse potenti. Class aptent taciti sociosqu ad litora torquent per conubia nostra\, per inceptos himenaeos. Sed non ornare ex\, a fermentum orci.
URL:http://wp1.themexlab.com/wp/volunteer/event/plantation-restaurant/
LOCATION:Melbourne Zoo\, Australia
CATEGORIES:Meetup
ATTACH;FMTTYPE=image/jpeg:http://wp1.themexlab.com/wp/volunteer/wp-content/uploads/2015/10/event1.jpg
END:VEVENT
BEGIN:VEVENT
DTSTART;TZID=UTC:20190529T180000
DTEND;TZID=UTC:20190529T180000
DTSTAMP:20260421T215114
CREATED:20151020T125149Z
LAST-MODIFIED:20161128T083544Z
UID:432-1559152800-1559152800@wp1.themexlab.com
SUMMARY:Atc Contracting
DESCRIPTION:Etiam luctus accumsan dictum. Morbi mollis nunc odio\, a finibus mi dignissim at. Maecenas aliquam urna nec urna sollicitudin hendrerit. Nam non pretium lacus. Vivamus sit amet dui fermentum\, consectetur lorem et\, euismod nisl. Donec ex ipsum\, posuere id laoreet sed\, efficitur a justo. Donec eget augue lorem. Sed sodales consequat ante\, ullamcorper egestas nisl finibus vel. \nIn nibh diam\, feugiat ac augue ac\, volutpat condimentum ex. Proin tristique nulla et nisl fringilla vulputate. Pellentesque tempor elit at erat posuere\, a ultricies purus vestibulum. Nulla at ultricies augue\, non imperdiet odio. Morbi auctor dolor nec finibus ultrices. Maecenas lacus nunc\, accumsan ac magna vel\, iaculis congue dolor. Proin consectetur ex vitae augue convallis blandit. Maecenas elementum posuere scelerisque. Sed ac odio augue. Aliquam ut leo sapien. Pellentesque facilisis ac lorem quis eleifend. Donec varius\, ex et scelerisque sodales\, velit arcu blandit nibh\, eget commodo metus sapien et nunc. Integer efficitur quam orci\, nec condimentum libero venenatis nec. \nDonec volutpat ac nulla at luctus. Sed tellus ex\, vestibulum at convallis sit amet\, viverra ut ipsum. Nulla porta mattis dui eget aliquet. Duis sed ex ultrices\, tincidunt dui eu\, lobortis dolor. In mattis fermentum pulvinar. Sed maximus neque eget vulputate tempor. Nulla sagittis semper est nec dapibus. Sed fringilla tempus viverra. Pellentesque vestibulum tincidunt eros. Suspendisse laoreet non tellus vel suscipit. Nulla consequat arcu id eros elementum mattis. Phasellus aliquet libero in scelerisque condimentum. Donec dapibus neque id lacus malesuada blandit. Suspendisse potenti. Class aptent taciti sociosqu ad litora torquent per conubia nostra\, per inceptos himenaeos. Sed non ornare ex\, a fermentum orci.
URL:http://wp1.themexlab.com/wp/volunteer/event/atc-contracting/
LOCATION:Gold Coast
CATEGORIES:Meetup
ATTACH;FMTTYPE=image/jpeg:http://wp1.themexlab.com/wp/volunteer/wp-content/uploads/2015/10/event4.jpg
END:VEVENT
BEGIN:VEVENT
DTSTART;TZID=UTC:20190528T070000
DTEND;TZID=UTC:20190528T070000
DTSTAMP:20260421T215114
CREATED:20151020T125112Z
LAST-MODIFIED:20161128T083555Z
UID:382-1559026800-1559026800@wp1.themexlab.com
SUMMARY:Goeman Wood Products Inc
DESCRIPTION:Etiam luctus accumsan dictum. Morbi mollis nunc odio\, a finibus mi dignissim at. Maecenas aliquam urna nec urna sollicitudin hendrerit. Nam non pretium lacus. Vivamus sit amet dui fermentum\, consectetur lorem et\, euismod nisl. Donec ex ipsum\, posuere id laoreet sed\, efficitur a justo. Donec eget augue lorem. Sed sodales consequat ante\, ullamcorper egestas nisl finibus vel. \nIn nibh diam\, feugiat ac augue ac\, volutpat condimentum ex. Proin tristique nulla et nisl fringilla vulputate. Pellentesque tempor elit at erat posuere\, a ultricies purus vestibulum. Nulla at ultricies augue\, non imperdiet odio. Morbi auctor dolor nec finibus ultrices. Maecenas lacus nunc\, accumsan ac magna vel\, iaculis congue dolor. Proin consectetur ex vitae augue convallis blandit. Maecenas elementum posuere scelerisque. Sed ac odio augue. Aliquam ut leo sapien. Pellentesque facilisis ac lorem quis eleifend. Donec varius\, ex et scelerisque sodales\, velit arcu blandit nibh\, eget commodo metus sapien et nunc. Integer efficitur quam orci\, nec condimentum libero venenatis nec. \nDonec volutpat ac nulla at luctus. Sed tellus ex\, vestibulum at convallis sit amet\, viverra ut ipsum. Nulla porta mattis dui eget aliquet. Duis sed ex ultrices\, tincidunt dui eu\, lobortis dolor. In mattis fermentum pulvinar. Sed maximus neque eget vulputate tempor. Nulla sagittis semper est nec dapibus. Sed fringilla tempus viverra. Pellentesque vestibulum tincidunt eros. Suspendisse laoreet non tellus vel suscipit. Nulla consequat arcu id eros elementum mattis. Phasellus aliquet libero in scelerisque condimentum. Donec dapibus neque id lacus malesuada blandit. Suspendisse potenti. Class aptent taciti sociosqu ad litora torquent per conubia nostra\, per inceptos himenaeos. Sed non ornare ex\, a fermentum orci.
URL:http://wp1.themexlab.com/wp/volunteer/event/goeman-wood-products-inc/
LOCATION:Luna Park\, Melbourne\, Australia
CATEGORIES:Meetup
ATTACH;FMTTYPE=image/jpeg:http://wp1.themexlab.com/wp/volunteer/wp-content/uploads/2015/10/event7.jpg
END:VEVENT
BEGIN:VEVENT
DTSTART;TZID=UTC:20190526T100000
DTEND;TZID=UTC:20190526T100000
DTSTAMP:20260421T215114
CREATED:20151020T125219Z
LAST-MODIFIED:20161128T083357Z
UID:477-1558864800-1558864800@wp1.themexlab.com
SUMMARY:Centro Inc
DESCRIPTION:Etiam luctus accumsan dictum. Morbi mollis nunc odio\, a finibus mi dignissim at. Maecenas aliquam urna nec urna sollicitudin hendrerit. Nam non pretium lacus. Vivamus sit amet dui fermentum\, consectetur lorem et\, euismod nisl. Donec ex ipsum\, posuere id laoreet sed\, efficitur a justo. Donec eget augue lorem. Sed sodales consequat ante\, ullamcorper egestas nisl finibus vel. \nIn nibh diam\, feugiat ac augue ac\, volutpat condimentum ex. Proin tristique nulla et nisl fringilla vulputate. Pellentesque tempor elit at erat posuere\, a ultricies purus vestibulum. Nulla at ultricies augue\, non imperdiet odio. Morbi auctor dolor nec finibus ultrices. Maecenas lacus nunc\, accumsan ac magna vel\, iaculis congue dolor. Proin consectetur ex vitae augue convallis blandit. Maecenas elementum posuere scelerisque. Sed ac odio augue. Aliquam ut leo sapien. Pellentesque facilisis ac lorem quis eleifend. Donec varius\, ex et scelerisque sodales\, velit arcu blandit nibh\, eget commodo metus sapien et nunc. Integer efficitur quam orci\, nec condimentum libero venenatis nec. \nDonec volutpat ac nulla at luctus. Sed tellus ex\, vestibulum at convallis sit amet\, viverra ut ipsum. Nulla porta mattis dui eget aliquet. Duis sed ex ultrices\, tincidunt dui eu\, lobortis dolor. In mattis fermentum pulvinar. Sed maximus neque eget vulputate tempor. Nulla sagittis semper est nec dapibus. Sed fringilla tempus viverra. Pellentesque vestibulum tincidunt eros. Suspendisse laoreet non tellus vel suscipit. Nulla consequat arcu id eros elementum mattis. Phasellus aliquet libero in scelerisque condimentum. Donec dapibus neque id lacus malesuada blandit. Suspendisse potenti. Class aptent taciti sociosqu ad litora torquent per conubia nostra\, per inceptos himenaeos. Sed non ornare ex\, a fermentum orci.
URL:http://wp1.themexlab.com/wp/volunteer/event/centro-inc/
LOCATION:Hyde Park\, Sydney\, Australia
ATTACH;FMTTYPE=image/jpeg:http://wp1.themexlab.com/wp/volunteer/wp-content/uploads/2015/10/event12.jpg
END:VEVENT
BEGIN:VEVENT
DTSTART;TZID=UTC:20190308T120000
DTEND;TZID=UTC:20190308T120000
DTSTAMP:20260421T215114
CREATED:20151020T125104Z
LAST-MODIFIED:20161128T083607Z
UID:357-1552046400-1552046400@wp1.themexlab.com
SUMMARY:Ankh-Sto Associates
DESCRIPTION:Etiam luctus accumsan dictum. Morbi mollis nunc odio\, a finibus mi dignissim at. Maecenas aliquam urna nec urna sollicitudin hendrerit. Nam non pretium lacus. Vivamus sit amet dui fermentum\, consectetur lorem et\, euismod nisl. Donec ex ipsum\, posuere id laoreet sed\, efficitur a justo. Donec eget augue lorem. Sed sodales consequat ante\, ullamcorper egestas nisl finibus vel. \nIn nibh diam\, feugiat ac augue ac\, volutpat condimentum ex. Proin tristique nulla et nisl fringilla vulputate. Pellentesque tempor elit at erat posuere\, a ultricies purus vestibulum. Nulla at ultricies augue\, non imperdiet odio. Morbi auctor dolor nec finibus ultrices. Maecenas lacus nunc\, accumsan ac magna vel\, iaculis congue dolor. Proin consectetur ex vitae augue convallis blandit. Maecenas elementum posuere scelerisque. Sed ac odio augue. Aliquam ut leo sapien. Pellentesque facilisis ac lorem quis eleifend. Donec varius\, ex et scelerisque sodales\, velit arcu blandit nibh\, eget commodo metus sapien et nunc. Integer efficitur quam orci\, nec condimentum libero venenatis nec. \nDonec volutpat ac nulla at luctus. Sed tellus ex\, vestibulum at convallis sit amet\, viverra ut ipsum. Nulla porta mattis dui eget aliquet. Duis sed ex ultrices\, tincidunt dui eu\, lobortis dolor. In mattis fermentum pulvinar. Sed maximus neque eget vulputate tempor. Nulla sagittis semper est nec dapibus. Sed fringilla tempus viverra. Pellentesque vestibulum tincidunt eros. Suspendisse laoreet non tellus vel suscipit. Nulla consequat arcu id eros elementum mattis. Phasellus aliquet libero in scelerisque condimentum. Donec dapibus neque id lacus malesuada blandit. Suspendisse potenti. Class aptent taciti sociosqu ad litora torquent per conubia nostra\, per inceptos himenaeos. Sed non ornare ex\, a fermentum orci.
URL:http://wp1.themexlab.com/wp/volunteer/event/ankh-sto-associates/
LOCATION:Luna Park\, Melbourne\, Australia
CATEGORIES:Convention,Meetup,Shindig
ATTACH;FMTTYPE=image/jpeg:http://wp1.themexlab.com/wp/volunteer/wp-content/uploads/2015/10/event6.jpg
END:VEVENT
BEGIN:VEVENT
DTSTART;TZID=UTC:20190227T150000
DTEND;TZID=UTC:20190227T150000
DTSTAMP:20260421T215114
CREATED:20151020T125114Z
LAST-MODIFIED:20161128T083621Z
UID:390-1551279600-1551279600@wp1.themexlab.com
SUMMARY:Widget Corp
DESCRIPTION:Etiam luctus accumsan dictum. Morbi mollis nunc odio\, a finibus mi dignissim at. Maecenas aliquam urna nec urna sollicitudin hendrerit. Nam non pretium lacus. Vivamus sit amet dui fermentum\, consectetur lorem et\, euismod nisl. Donec ex ipsum\, posuere id laoreet sed\, efficitur a justo. Donec eget augue lorem. Sed sodales consequat ante\, ullamcorper egestas nisl finibus vel. \nIn nibh diam\, feugiat ac augue ac\, volutpat condimentum ex. Proin tristique nulla et nisl fringilla vulputate. Pellentesque tempor elit at erat posuere\, a ultricies purus vestibulum. Nulla at ultricies augue\, non imperdiet odio. Morbi auctor dolor nec finibus ultrices. Maecenas lacus nunc\, accumsan ac magna vel\, iaculis congue dolor. Proin consectetur ex vitae augue convallis blandit. Maecenas elementum posuere scelerisque. Sed ac odio augue. Aliquam ut leo sapien. Pellentesque facilisis ac lorem quis eleifend. Donec varius\, ex et scelerisque sodales\, velit arcu blandit nibh\, eget commodo metus sapien et nunc. Integer efficitur quam orci\, nec condimentum libero venenatis nec. \nDonec volutpat ac nulla at luctus. Sed tellus ex\, vestibulum at convallis sit amet\, viverra ut ipsum. Nulla porta mattis dui eget aliquet. Duis sed ex ultrices\, tincidunt dui eu\, lobortis dolor. In mattis fermentum pulvinar. Sed maximus neque eget vulputate tempor. Nulla sagittis semper est nec dapibus. Sed fringilla tempus viverra. Pellentesque vestibulum tincidunt eros. Suspendisse laoreet non tellus vel suscipit. Nulla consequat arcu id eros elementum mattis. Phasellus aliquet libero in scelerisque condimentum. Donec dapibus neque id lacus malesuada blandit. Suspendisse potenti. Class aptent taciti sociosqu ad litora torquent per conubia nostra\, per inceptos himenaeos. Sed non ornare ex\, a fermentum orci.
URL:http://wp1.themexlab.com/wp/volunteer/event/widget-corp/
LOCATION:Jackson’s & Co\, Australia
CATEGORIES:Barbecue
ATTACH;FMTTYPE=image/jpeg:http://wp1.themexlab.com/wp/volunteer/wp-content/uploads/2015/10/event11.jpg
END:VEVENT
BEGIN:VEVENT
DTSTART;TZID=UTC:20190218T120000
DTEND;TZID=UTC:20190218T120000
DTSTAMP:20260421T215114
CREATED:20151020T125138Z
LAST-MODIFIED:20161128T083637Z
UID:426-1550491200-1550491200@wp1.themexlab.com
SUMMARY:C 4 Network Inc
DESCRIPTION:Etiam luctus accumsan dictum. Morbi mollis nunc odio\, a finibus mi dignissim at. Maecenas aliquam urna nec urna sollicitudin hendrerit. Nam non pretium lacus. Vivamus sit amet dui fermentum\, consectetur lorem et\, euismod nisl. Donec ex ipsum\, posuere id laoreet sed\, efficitur a justo. Donec eget augue lorem. Sed sodales consequat ante\, ullamcorper egestas nisl finibus vel. \nIn nibh diam\, feugiat ac augue ac\, volutpat condimentum ex. Proin tristique nulla et nisl fringilla vulputate. Pellentesque tempor elit at erat posuere\, a ultricies purus vestibulum. Nulla at ultricies augue\, non imperdiet odio. Morbi auctor dolor nec finibus ultrices. Maecenas lacus nunc\, accumsan ac magna vel\, iaculis congue dolor. Proin consectetur ex vitae augue convallis blandit. Maecenas elementum posuere scelerisque. Sed ac odio augue. Aliquam ut leo sapien. Pellentesque facilisis ac lorem quis eleifend. Donec varius\, ex et scelerisque sodales\, velit arcu blandit nibh\, eget commodo metus sapien et nunc. Integer efficitur quam orci\, nec condimentum libero venenatis nec. \nDonec volutpat ac nulla at luctus. Sed tellus ex\, vestibulum at convallis sit amet\, viverra ut ipsum. Nulla porta mattis dui eget aliquet. Duis sed ex ultrices\, tincidunt dui eu\, lobortis dolor. In mattis fermentum pulvinar. Sed maximus neque eget vulputate tempor. Nulla sagittis semper est nec dapibus. Sed fringilla tempus viverra. Pellentesque vestibulum tincidunt eros. Suspendisse laoreet non tellus vel suscipit. Nulla consequat arcu id eros elementum mattis. Phasellus aliquet libero in scelerisque condimentum. Donec dapibus neque id lacus malesuada blandit. Suspendisse potenti. Class aptent taciti sociosqu ad litora torquent per conubia nostra\, per inceptos himenaeos. Sed non ornare ex\, a fermentum orci.
URL:http://wp1.themexlab.com/wp/volunteer/event/c-4-network-inc-shows-that-pop/
LOCATION:Melbourne Zoo\, Australia
CATEGORIES:Convention
ATTACH;FMTTYPE=image/jpeg:http://wp1.themexlab.com/wp/volunteer/wp-content/uploads/2015/10/event9.jpg
END:VEVENT
BEGIN:VEVENT
DTSTART;TZID=UTC:20190217T080000
DTEND;TZID=UTC:20190217T080000
DTSTAMP:20260421T215114
CREATED:20151020T125123Z
LAST-MODIFIED:20161128T083649Z
UID:410-1550390400-1550390400@wp1.themexlab.com
SUMMARY:Little Sheet Metal Co
DESCRIPTION:Etiam luctus accumsan dictum. Morbi mollis nunc odio\, a finibus mi dignissim at. Maecenas aliquam urna nec urna sollicitudin hendrerit. Nam non pretium lacus. Vivamus sit amet dui fermentum\, consectetur lorem et\, euismod nisl. Donec ex ipsum\, posuere id laoreet sed\, efficitur a justo. Donec eget augue lorem. Sed sodales consequat ante\, ullamcorper egestas nisl finibus vel. \nIn nibh diam\, feugiat ac augue ac\, volutpat condimentum ex. Proin tristique nulla et nisl fringilla vulputate. Pellentesque tempor elit at erat posuere\, a ultricies purus vestibulum. Nulla at ultricies augue\, non imperdiet odio. Morbi auctor dolor nec finibus ultrices. Maecenas lacus nunc\, accumsan ac magna vel\, iaculis congue dolor. Proin consectetur ex vitae augue convallis blandit. Maecenas elementum posuere scelerisque. Sed ac odio augue. Aliquam ut leo sapien. Pellentesque facilisis ac lorem quis eleifend. Donec varius\, ex et scelerisque sodales\, velit arcu blandit nibh\, eget commodo metus sapien et nunc. Integer efficitur quam orci\, nec condimentum libero venenatis nec. \nDonec volutpat ac nulla at luctus. Sed tellus ex\, vestibulum at convallis sit amet\, viverra ut ipsum. Nulla porta mattis dui eget aliquet. Duis sed ex ultrices\, tincidunt dui eu\, lobortis dolor. In mattis fermentum pulvinar. Sed maximus neque eget vulputate tempor. Nulla sagittis semper est nec dapibus. Sed fringilla tempus viverra. Pellentesque vestibulum tincidunt eros. Suspendisse laoreet non tellus vel suscipit. Nulla consequat arcu id eros elementum mattis. Phasellus aliquet libero in scelerisque condimentum. Donec dapibus neque id lacus malesuada blandit. Suspendisse potenti. Class aptent taciti sociosqu ad litora torquent per conubia nostra\, per inceptos himenaeos. Sed non ornare ex\, a fermentum orci.
URL:http://wp1.themexlab.com/wp/volunteer/event/little-sheet-metal-co/
LOCATION:Pullman\, Sydney\, Australia
CATEGORIES:Barbecue,Concert
ATTACH;FMTTYPE=image/jpeg:http://wp1.themexlab.com/wp/volunteer/wp-content/uploads/2015/10/event3.jpg
END:VEVENT
END:VCALENDAR